View In:
ArcGIS JavaScript
Portal
ArcGIS Earth
ArcMap
View Footprint In:
Portal
Service Description: Imagery/Smith_Island_Everett_12th_City_Site_WSP
Name: Imagery/Smith_Island_Everett_12th_City_Site_WSP
Description:
Single Fused Map Cache: false
Extent:
XMin: 1312969.503126999
YMin: 369384.5347029787
XMax: 1316149.9114643293
YMax: 370580.1543589776
Spatial Reference: 102748
(2285)
Initial Extent:
XMin: 1312969.503126999
YMin: 369384.5347029787
XMax: 1316149.9114643293
YMax: 370580.1543589776
Spatial Reference: 102748
(2285)
Full Extent:
XMin: 1312969.503126999
YMin: 369384.5347029787
XMax: 1316149.9114643293
YMax: 370580.1543589776
Spatial Reference: 102748
(2285)
Pixel Size X: 0.05774266666661424
Pixel Size Y: 0.05774266666661584
Band Count: 3
Pixel Type: U8
RasterFunction Infos: {"rasterFunctionInfos": [{
"name": "None",
"description": "",
"help": ""
}]}
Mensuration Capabilities: Basic
Has Histograms: true
Has Colormap: false
Has Multi Dimensions : false
Rendering Rule:
Min Scale: 0
Max Scale: 0
Copyright Text: City of Everett Surface Water
Service Data Type: esriImageServiceDataTypeRGB
Min Values: 0, 0, 0
Max Values: 255, 255, 255
Mean Values: 83.377492822507, 92.877141860638, 93.563404648038
Standard Deviation Values: 56.24746679938, 55.48644147835, 54.769202613108
Object ID Field:
Fields:
None
Default Mosaic Method: Center
Allowed Mosaic Methods:
SortField:
SortValue: null
Mosaic Operator: First
Default Compression Quality: 75
Default Resampling Method: Bilinear
Max Record Count: null
Max Image Height: 4100
Max Image Width: 15000
Max Download Image Count: null
Max Mosaic Image Count: null
Allow Raster Function: true
Allow Copy: null
Allow Analysis: null
Allow Compute TiePoints: false
Supports Statistics: false
Supports Advanced Queries: false
Use StandardizedQueries: true
Raster Type Infos:
Name: Raster Dataset
Description: Supports all ArcGIS Raster Datasets
Help:
Has Raster Attribute Table: false
Edit Fields Info: null
Ownership Based AccessControl For Rasters: null
Child Resources:
Info
Histograms
Key Properties
Legend
Raster Function Infos
Supported Operations:
Export Image
Identify
Measure
Compute Histograms
Compute Statistics Histograms
Get Samples
Compute Class Statistics
Query Boundary
Compute Pixel Location
Validate
Project