{
 "currentVersion": 10.81,
 "serviceDescription": "Imagery/Smith_Island_Everett_12th_City_Site_WSP",
 "name": "Imagery/Smith_Island_Everett_12th_City_Site_WSP",
 "description": "",
 "extent": {
  "xmin": 1312969.503126999,
  "ymin": 369384.5347029787,
  "xmax": 1316149.9114643293,
  "ymax": 370580.1543589776,
  "spatialReference": {
   "wkid": 102748,
   "latestWkid": 2285
  }
 },
 "initialExtent": {
  "xmin": 1312969.503126999,
  "ymin": 369384.5347029787,
  "xmax": 1316149.9114643293,
  "ymax": 370580.1543589776,
  "spatialReference": {
   "wkid": 102748,
   "latestWkid": 2285
  }
 },
 "fullExtent": {
  "xmin": 1312969.503126999,
  "ymin": 369384.5347029787,
  "xmax": 1316149.9114643293,
  "ymax": 370580.1543589776,
  "spatialReference": {
   "wkid": 102748,
   "latestWkid": 2285
  }
 },
 "pixelSizeX": 0.05774266666661424,
 "pixelSizeY": 0.05774266666661584,
 "bandCount": 3,
 "pixelType": "U8",
 "minPixelSize": 0,
 "maxPixelSize": 0,
 "copyrightText": "City of Everett Surface Water",
 "serviceDataType": "esriImageServiceDataTypeRGB",
 "minValues": [
  0,
  0,
  0
 ],
 "maxValues": [
  255,
  255,
  255
 ],
 "meanValues": [
  83.377492822507,
  92.877141860638,
  93.563404648038
 ],
 "stdvValues": [
  56.24746679938,
  55.48644147835,
  54.769202613108
 ],
 "objectIdField": "",
 "fields": [],
 "capabilities": "Mensuration,Image,Metadata",
 "defaultMosaicMethod": "Center",
 "allowedMosaicMethods": "",
 "sortField": "",
 "sortValue": null,
 "sortAscending": true,
 "mosaicOperator": "First",
 "defaultCompressionQuality": 75,
 "defaultResamplingMethod": "Bilinear",
 "maxImageHeight": 4100,
 "maxImageWidth": 15000,
 "allowRasterFunction": true,
 "rasterFunctionInfos": [
  {
   "name": "None",
   "description": "",
   "help": ""
  }
 ],
 "rasterTypeInfos": [
  {
   "name": "Raster Dataset",
   "description": "Supports all ArcGIS Raster Datasets",
   "help": ""
  }
 ],
 "mensurationCapabilities": "Basic",
 "hasHistograms": true,
 "hasColormap": false,
 "hasRasterAttributeTable": false,
 "minScale": 0,
 "maxScale": 0,
 "exportTilesAllowed": false,
 "hasMultidimensions": false,
 "supportsStatistics": false,
 "supportsAdvancedQueries": false,
 "editFieldsInfo": null,
 "ownershipBasedAccessControlForRasters": null,
 "allowComputeTiePoints": false,
 "useStandardizedQueries": true,
 "advancedQueryCapabilities": {
  "useStandardizedQueries": true,
  "supportsStatistics": false,
  "supportsOrderBy": false,
  "supportsDistinct": false,
  "supportsPagination": false
 },
 "spatialReference": {
  "wkid": 102748,
  "latestWkid": 2285
 }
}
