View In:
ArcGIS JavaScript
Portal
ArcGIS Earth
ArcMap
View Footprint In:
Portal
Service Description: Imagery/Image2011sid
Name: Imagery/Image2011sid
Description:
Single Fused Map Cache: false
Extent:
XMin: 1278004.16
YMin: 321555.8400000298
XMax: 1321244.16
YMax: 385499.8400000298
Spatial Reference: 102748
(2285)
Initial Extent:
XMin: 1278004.16
YMin: 321555.8400000298
XMax: 1321244.16
YMax: 385499.8400000298
Spatial Reference: 102748
(2285)
Full Extent:
XMin: 1278004.16
YMin: 321555.8400000298
XMax: 1321244.16
YMax: 385499.8400000298
Spatial Reference: 102748
(2285)
Pixel Size X: 0.32
Pixel Size Y: 0.32
Band Count: 3
Pixel Type: U8
RasterFunction Infos: {"rasterFunctionInfos": [{
"name": "None",
"description": "",
"help": ""
}]}
Mensuration Capabilities: Basic
Has Histograms: true
Has Colormap: false
Has Multi Dimensions : false
Rendering Rule:
Min Scale: 0
Max Scale: 0
Copyright Text:
Service Data Type: esriImageServiceDataTypeRGB
Min Values: 2, 27, 16
Max Values: 255, 255, 255
Mean Values: 160.73453927025, 168.47031539889, 144.04174397032
Standard Deviation Values: 72.728140189168, 66.132154497383, 83.469574525938
Object ID Field:
Fields:
None
Default Mosaic Method: Center
Allowed Mosaic Methods:
SortField:
SortValue: null
Mosaic Operator: First
Default Compression Quality: 75
Default Resampling Method: Bilinear
Max Record Count: null
Max Image Height: 4100
Max Image Width: 15000
Max Download Image Count: null
Max Mosaic Image Count: null
Allow Raster Function: true
Allow Copy: null
Allow Analysis: null
Allow Compute TiePoints: false
Supports Statistics: false
Supports Advanced Queries: false
Use StandardizedQueries: true
Raster Type Infos:
Name: Raster Dataset
Description: Supports all ArcGIS Raster Datasets
Help:
Has Raster Attribute Table: false
Edit Fields Info: null
Ownership Based AccessControl For Rasters: null
Child Resources:
Info
Histograms
Key Properties
Legend
Raster Function Infos
Supported Operations:
Export Image
Identify
Measure
Compute Histograms
Compute Statistics Histograms
Get Samples
Compute Class Statistics
Query Boundary
Compute Pixel Location
Validate
Project