{
 "currentVersion": 10.81,
 "serviceDescription": "Imagery/Image2011sid",
 "name": "Imagery/Image2011sid",
 "description": "",
 "extent": {
  "xmin": 1278004.16,
  "ymin": 321555.8400000298,
  "xmax": 1321244.16,
  "ymax": 385499.8400000298,
  "spatialReference": {
   "wkid": 102748,
   "latestWkid": 2285
  }
 },
 "initialExtent": {
  "xmin": 1278004.16,
  "ymin": 321555.8400000298,
  "xmax": 1321244.16,
  "ymax": 385499.8400000298,
  "spatialReference": {
   "wkid": 102748,
   "latestWkid": 2285
  }
 },
 "fullExtent": {
  "xmin": 1278004.16,
  "ymin": 321555.8400000298,
  "xmax": 1321244.16,
  "ymax": 385499.8400000298,
  "spatialReference": {
   "wkid": 102748,
   "latestWkid": 2285
  }
 },
 "pixelSizeX": 0.32,
 "pixelSizeY": 0.32,
 "bandCount": 3,
 "pixelType": "U8",
 "minPixelSize": 0,
 "maxPixelSize": 0,
 "copyrightText": "",
 "serviceDataType": "esriImageServiceDataTypeRGB",
 "minValues": [
  2,
  27,
  16
 ],
 "maxValues": [
  255,
  255,
  255
 ],
 "meanValues": [
  160.73453927025,
  168.47031539889,
  144.04174397032
 ],
 "stdvValues": [
  72.728140189168,
  66.132154497383,
  83.469574525938
 ],
 "objectIdField": "",
 "fields": [],
 "capabilities": "Mensuration,Image,Metadata",
 "defaultMosaicMethod": "Center",
 "allowedMosaicMethods": "",
 "sortField": "",
 "sortValue": null,
 "sortAscending": true,
 "mosaicOperator": "First",
 "defaultCompressionQuality": 75,
 "defaultResamplingMethod": "Bilinear",
 "maxImageHeight": 4100,
 "maxImageWidth": 15000,
 "allowRasterFunction": true,
 "rasterFunctionInfos": [
  {
   "name": "None",
   "description": "",
   "help": ""
  }
 ],
 "rasterTypeInfos": [
  {
   "name": "Raster Dataset",
   "description": "Supports all ArcGIS Raster Datasets",
   "help": ""
  }
 ],
 "mensurationCapabilities": "Basic",
 "hasHistograms": true,
 "hasColormap": false,
 "hasRasterAttributeTable": false,
 "minScale": 0,
 "maxScale": 0,
 "exportTilesAllowed": false,
 "hasMultidimensions": false,
 "supportsStatistics": false,
 "supportsAdvancedQueries": false,
 "editFieldsInfo": null,
 "ownershipBasedAccessControlForRasters": null,
 "allowComputeTiePoints": false,
 "useStandardizedQueries": true,
 "advancedQueryCapabilities": {
  "useStandardizedQueries": true,
  "supportsStatistics": false,
  "supportsOrderBy": false,
  "supportsDistinct": false,
  "supportsPagination": false
 },
 "spatialReference": {
  "wkid": 102748,
  "latestWkid": 2285
 }
}
