View In:
ArcGIS JavaScript
Portal
ArcGIS Earth
ArcMap
View Footprint In:
Portal
Service Description: 1938 Aerial Image, Everett, WA
Name: Imagery/1938
Description: 1938 Aerial Image, Everett, WA
Single Fused Map Cache: false
Extent:
XMin: 1300246.7171911697
YMin: 332373.8289110629
XMax: 1324485.5138578364
YMax: 390685.72016106284
Spatial Reference: PROJCS["NAD_1983_StatePlane_Washington_North_FIPS_4601_Feet",GEOGCS["GCS_North_American_1983",DATUM["D_North_American_1983",SPHEROID["GRS_1980",6378137.0,298.257222101]],PRIMEM["Greenwich",0.0],UNIT["Degree",0.0174532925199433]],PROJECTION["Lambert_Conformal_Conic"],PARAMETER["False_Easting",1640416.667],PARAMETER["False_Northing",0.0],PARAMETER["Central_Meridian",-120.833333333333],PARAMETER["Standard_Parallel_1",47.5],PARAMETER["Standard_Parallel_2",48.7333333333333],PARAMETER["Latitude_Of_Origin",47.0],UNIT["Foot_US",0.3048006096012192]]
Initial Extent:
XMin: 1300246.7171911697
YMin: 332373.8289110629
XMax: 1324485.5138578364
YMax: 390685.72016106284
Spatial Reference: PROJCS["NAD_1983_StatePlane_Washington_North_FIPS_4601_Feet",GEOGCS["GCS_North_American_1983",DATUM["D_North_American_1983",SPHEROID["GRS_1980",6378137.0,298.257222101]],PRIMEM["Greenwich",0.0],UNIT["Degree",0.0174532925199433]],PROJECTION["Lambert_Conformal_Conic"],PARAMETER["False_Easting",1640416.667],PARAMETER["False_Northing",0.0],PARAMETER["Central_Meridian",-120.833333333333],PARAMETER["Standard_Parallel_1",47.5],PARAMETER["Standard_Parallel_2",48.7333333333333],PARAMETER["Latitude_Of_Origin",47.0],UNIT["Foot_US",0.3048006096012192]]
Full Extent:
XMin: 1300246.7171911697
YMin: 332373.8289110629
XMax: 1324485.5138578364
YMax: 390685.72016106284
Spatial Reference: PROJCS["NAD_1983_StatePlane_Washington_North_FIPS_4601_Feet",GEOGCS["GCS_North_American_1983",DATUM["D_North_American_1983",SPHEROID["GRS_1980",6378137.0,298.257222101]],PRIMEM["Greenwich",0.0],UNIT["Degree",0.0174532925199433]],PROJECTION["Lambert_Conformal_Conic"],PARAMETER["False_Easting",1640416.667],PARAMETER["False_Northing",0.0],PARAMETER["Central_Meridian",-120.833333333333],PARAMETER["Standard_Parallel_1",47.5],PARAMETER["Standard_Parallel_2",48.7333333333333],PARAMETER["Latitude_Of_Origin",47.0],UNIT["Foot_US",0.3048006096012192]]
Pixel Size X: 1.6404166666666644
Pixel Size Y: 1.6404166666666646
Band Count: 1
Pixel Type: U16
RasterFunction Infos: {"rasterFunctionInfos": [{
"name": "None",
"description": "",
"help": ""
}]}
Mensuration Capabilities: Basic
Has Histograms: true
Has Colormap: false
Has Multi Dimensions : false
Rendering Rule:
Min Scale: 0
Max Scale: 0
Copyright Text:
Service Data Type: esriImageServiceDataTypeGeneric
Min Values: 0
Max Values: 255
Mean Values: 129.27537595806
Standard Deviation Values: 58.291780044213
Object ID Field:
Fields:
None
Default Mosaic Method: Center
Allowed Mosaic Methods:
SortField:
SortValue: null
Mosaic Operator: First
Default Compression Quality: 75
Default Resampling Method: Bilinear
Max Record Count: null
Max Image Height: 4100
Max Image Width: 15000
Max Download Image Count: null
Max Mosaic Image Count: null
Allow Raster Function: true
Allow Copy: null
Allow Analysis: null
Allow Compute TiePoints: false
Supports Statistics: false
Supports Advanced Queries: false
Use StandardizedQueries: true
Raster Type Infos:
Name: Raster Dataset
Description: Supports all ArcGIS Raster Datasets
Help:
Has Raster Attribute Table: true
Edit Fields Info: null
Ownership Based AccessControl For Rasters: null
Child Resources:
Info
Raster Attribute Table
Histograms
Key Properties
Legend
Raster Function Infos
Supported Operations:
Export Image
Identify
Measure
Compute Histograms
Compute Statistics Histograms
Get Samples
Compute Class Statistics
Query Boundary
Compute Pixel Location
Validate
Project