{
 "currentVersion": 10.81,
 "serviceDescription": "1938 Aerial Image, Everett, WA",
 "name": "Imagery/1938",
 "description": "1938 Aerial Image, Everett, WA",
 "extent": {
  "xmin": 1300246.7171911697,
  "ymin": 332373.8289110629,
  "xmax": 1324485.5138578364,
  "ymax": 390685.72016106284,
  "spatialReference": {
   "wkt": "PROJCS[\"NAD_1983_StatePlane_Washington_North_FIPS_4601_Feet\",GEOGCS[\"GCS_North_American_1983\",DATUM[\"D_North_American_1983\",SPHEROID[\"GRS_1980\",6378137.0,298.257222101]],PRIMEM[\"Greenwich\",0.0],UNIT[\"Degree\",0.0174532925199433]],PROJECTION[\"Lambert_Conformal_Conic\"],PARAMETER[\"False_Easting\",1640416.667],PARAMETER[\"False_Northing\",0.0],PARAMETER[\"Central_Meridian\",-120.833333333333],PARAMETER[\"Standard_Parallel_1\",47.5],PARAMETER[\"Standard_Parallel_2\",48.7333333333333],PARAMETER[\"Latitude_Of_Origin\",47.0],UNIT[\"Foot_US\",0.3048006096012192]]"
  }
 },
 "initialExtent": {
  "xmin": 1300246.7171911697,
  "ymin": 332373.8289110629,
  "xmax": 1324485.5138578364,
  "ymax": 390685.72016106284,
  "spatialReference": {
   "wkt": "PROJCS[\"NAD_1983_StatePlane_Washington_North_FIPS_4601_Feet\",GEOGCS[\"GCS_North_American_1983\",DATUM[\"D_North_American_1983\",SPHEROID[\"GRS_1980\",6378137.0,298.257222101]],PRIMEM[\"Greenwich\",0.0],UNIT[\"Degree\",0.0174532925199433]],PROJECTION[\"Lambert_Conformal_Conic\"],PARAMETER[\"False_Easting\",1640416.667],PARAMETER[\"False_Northing\",0.0],PARAMETER[\"Central_Meridian\",-120.833333333333],PARAMETER[\"Standard_Parallel_1\",47.5],PARAMETER[\"Standard_Parallel_2\",48.7333333333333],PARAMETER[\"Latitude_Of_Origin\",47.0],UNIT[\"Foot_US\",0.3048006096012192]]"
  }
 },
 "fullExtent": {
  "xmin": 1300246.7171911697,
  "ymin": 332373.8289110629,
  "xmax": 1324485.5138578364,
  "ymax": 390685.72016106284,
  "spatialReference": {
   "wkt": "PROJCS[\"NAD_1983_StatePlane_Washington_North_FIPS_4601_Feet\",GEOGCS[\"GCS_North_American_1983\",DATUM[\"D_North_American_1983\",SPHEROID[\"GRS_1980\",6378137.0,298.257222101]],PRIMEM[\"Greenwich\",0.0],UNIT[\"Degree\",0.0174532925199433]],PROJECTION[\"Lambert_Conformal_Conic\"],PARAMETER[\"False_Easting\",1640416.667],PARAMETER[\"False_Northing\",0.0],PARAMETER[\"Central_Meridian\",-120.833333333333],PARAMETER[\"Standard_Parallel_1\",47.5],PARAMETER[\"Standard_Parallel_2\",48.7333333333333],PARAMETER[\"Latitude_Of_Origin\",47.0],UNIT[\"Foot_US\",0.3048006096012192]]"
  }
 },
 "pixelSizeX": 1.6404166666666644,
 "pixelSizeY": 1.6404166666666646,
 "bandCount": 1,
 "pixelType": "U16",
 "minPixelSize": 0,
 "maxPixelSize": 0,
 "copyrightText": "",
 "serviceDataType": "esriImageServiceDataTypeGeneric",
 "minValues": [
  0
 ],
 "maxValues": [
  255
 ],
 "meanValues": [
  129.27537595806
 ],
 "stdvValues": [
  58.291780044213
 ],
 "objectIdField": "",
 "fields": [],
 "capabilities": "Image,Metadata,Mensuration",
 "defaultMosaicMethod": "Center",
 "allowedMosaicMethods": "",
 "sortField": "",
 "sortValue": null,
 "sortAscending": true,
 "mosaicOperator": "First",
 "defaultCompressionQuality": 75,
 "defaultResamplingMethod": "Bilinear",
 "maxImageHeight": 4100,
 "maxImageWidth": 15000,
 "allowRasterFunction": true,
 "rasterFunctionInfos": [
  {
   "name": "None",
   "description": "",
   "help": ""
  }
 ],
 "rasterTypeInfos": [
  {
   "name": "Raster Dataset",
   "description": "Supports all ArcGIS Raster Datasets",
   "help": ""
  }
 ],
 "mensurationCapabilities": "Basic",
 "hasHistograms": true,
 "hasColormap": false,
 "hasRasterAttributeTable": true,
 "minScale": 0,
 "maxScale": 0,
 "exportTilesAllowed": false,
 "hasMultidimensions": false,
 "supportsStatistics": false,
 "supportsAdvancedQueries": false,
 "editFieldsInfo": null,
 "ownershipBasedAccessControlForRasters": null,
 "allowComputeTiePoints": false,
 "useStandardizedQueries": true,
 "advancedQueryCapabilities": {
  "useStandardizedQueries": true,
  "supportsStatistics": false,
  "supportsOrderBy": false,
  "supportsDistinct": false,
  "supportsPagination": false
 },
 "spatialReference": {
  "wkt": "PROJCS[\"NAD_1983_StatePlane_Washington_North_FIPS_4601_Feet\",GEOGCS[\"GCS_North_American_1983\",DATUM[\"D_North_American_1983\",SPHEROID[\"GRS_1980\",6378137.0,298.257222101]],PRIMEM[\"Greenwich\",0.0],UNIT[\"Degree\",0.0174532925199433]],PROJECTION[\"Lambert_Conformal_Conic\"],PARAMETER[\"False_Easting\",1640416.667],PARAMETER[\"False_Northing\",0.0],PARAMETER[\"Central_Meridian\",-120.833333333333],PARAMETER[\"Standard_Parallel_1\",47.5],PARAMETER[\"Standard_Parallel_2\",48.7333333333333],PARAMETER[\"Latitude_Of_Origin\",47.0],UNIT[\"Foot_US\",0.3048006096012192]]"
 }
}
