View In:
ArcGIS JavaScript
Portal
ArcGIS Earth
ArcMap
View Footprint In:
Portal
Service Description: Aerial Photos 2015 City inside UGA
Name: Imagery/Images2015city
Description: Aerial Photos 2015 City inside UGA
Single Fused Map Cache: false
Extent:
XMin: 1281000
YMin: 321000
XMax: 1320000
YMax: 381000
Spatial Reference: 102748
(2285)
Initial Extent:
XMin: 1281000
YMin: 321000
XMax: 1320000
YMax: 381000
Spatial Reference: 102748
(2285)
Full Extent:
XMin: 1281000
YMin: 321000
XMax: 1320000
YMax: 381000
Spatial Reference: 102748
(2285)
Pixel Size X: 0.25
Pixel Size Y: 0.25
Band Count: 3
Pixel Type: U8
RasterFunction Infos: {"rasterFunctionInfos": [{
"name": "None",
"description": "",
"help": ""
}]}
Mensuration Capabilities: Basic
Has Histograms: true
Has Colormap: false
Has Multi Dimensions : false
Rendering Rule:
Min Scale: 0
Max Scale: 0
Copyright Text: City of Everett, WA
Service Data Type: esriImageServiceDataTypeRGB
Min Values: 0, 0, 0
Max Values: 255, 255, 255
Mean Values: 66.217810415121, 68.06917271103, 63.233522179779
Standard Deviation Values: 61.61143061241, 60.428206157024, 56.910759700949
Object ID Field:
Fields:
None
Default Mosaic Method: Center
Allowed Mosaic Methods:
SortField:
SortValue: null
Mosaic Operator: First
Default Compression Quality: 75
Default Resampling Method: Bilinear
Max Record Count: null
Max Image Height: 4100
Max Image Width: 15000
Max Download Image Count: null
Max Mosaic Image Count: null
Allow Raster Function: true
Allow Copy: null
Allow Analysis: null
Allow Compute TiePoints: false
Supports Statistics: false
Supports Advanced Queries: false
Use StandardizedQueries: true
Raster Type Infos:
Name: Raster Dataset
Description: Supports all ArcGIS Raster Datasets
Help:
Has Raster Attribute Table: false
Edit Fields Info: null
Ownership Based AccessControl For Rasters: null
Child Resources:
Info
Histograms
Key Properties
Legend
Raster Function Infos
Supported Operations:
Export Image
Identify
Measure
Compute Histograms
Compute Statistics Histograms
Get Samples
Compute Class Statistics
Query Boundary
Compute Pixel Location
Validate
Project