View In:
ArcGIS JavaScript
Portal
ArcGIS Earth
ArcMap
View Footprint In:
Portal
Service Description: Aerial Photos 2020 Pictometry Mosiac 3 inch resolution urban areas.
Name: Imagery/Image2020jp2
Description: Aerial Photos 2020 Pictometry Mosiac 3 inch resolution urban areas.
Single Fused Map Cache: false
Extent:
XMin: 1281456
YMin: 321288
XMax: 1321056
YMax: 382008
Spatial Reference: 102748
(2285)
Initial Extent:
XMin: 1281456
YMin: 321288
XMax: 1321056
YMax: 382008
Spatial Reference: 102748
(2285)
Full Extent:
XMin: 1281456
YMin: 321288
XMax: 1321056
YMax: 382008
Spatial Reference: 102748
(2285)
Pixel Size X: 0.25
Pixel Size Y: 0.25
Band Count: 3
Pixel Type: U8
RasterFunction Infos: {"rasterFunctionInfos": [{
"name": "None",
"description": "",
"help": ""
}]}
Mensuration Capabilities:
Has Histograms: true
Has Colormap: false
Has Multi Dimensions : false
Rendering Rule:
Min Scale: 0
Max Scale: 0
Copyright Text: Eagleview; Snohomish County; City of Everett
Service Data Type: esriImageServiceDataTypeRGB
Min Values: 0, 0, 0
Max Values: 255, 255, 255
Mean Values: 76.964338473306, 77.682791990199, 58.707079882633
Standard Deviation Values: 69.303371588287, 68.069394686572, 56.684365988537
Object ID Field:
Fields:
None
Default Mosaic Method: Center
Allowed Mosaic Methods:
SortField:
SortValue: null
Mosaic Operator: First
Default Compression Quality: 75
Default Resampling Method: Bilinear
Max Record Count: null
Max Image Height: 4100
Max Image Width: 15000
Max Download Image Count: null
Max Mosaic Image Count: null
Allow Raster Function: true
Allow Copy: null
Allow Analysis: null
Allow Compute TiePoints: false
Supports Statistics: false
Supports Advanced Queries: false
Use StandardizedQueries: true
Raster Type Infos:
Name: Raster Dataset
Description: Supports all ArcGIS Raster Datasets
Help:
Has Raster Attribute Table: false
Edit Fields Info: null
Ownership Based AccessControl For Rasters: null
Child Resources:
Info
Histograms
Key Properties
Legend
Raster Function Infos
Supported Operations:
Export Image
Identify
Compute Histograms
Compute Statistics Histograms
Get Samples
Compute Class Statistics
Query Boundary
Compute Pixel Location
Validate
Project