View In:
ArcGIS JavaScript
Portal
ArcGIS Earth
ArcMap
View Footprint In:
Portal
Service Description: Aerial Photos 2020 Pictometry Mosiac 9 inch resolution transmission lines.
Name: Imagery/Image2020TransLinesjp2
Description: Aerial Photos 2020 Pictometry Mosiac 9 inch resolution transmission lines.
Single Fused Map Cache: false
Extent:
XMin: 1321056
YMin: 329208
XMax: 1405536
YMax: 360888
Spatial Reference: 102748
(2285)
Initial Extent:
XMin: 1321056
YMin: 329208
XMax: 1405536
YMax: 360888
Spatial Reference: 102748
(2285)
Full Extent:
XMin: 1321056
YMin: 329208
XMax: 1405536
YMax: 360888
Spatial Reference: 102748
(2285)
Pixel Size X: 0.75
Pixel Size Y: 0.75
Band Count: 3
Pixel Type: U8
RasterFunction Infos: {"rasterFunctionInfos": [{
"name": "None",
"description": "",
"help": ""
}]}
Mensuration Capabilities: Basic
Has Histograms: false
Has Colormap: false
Has Multi Dimensions : false
Rendering Rule:
Min Scale: 0
Max Scale: 0
Copyright Text: Eagleview; Snohomish County; City of Everett
Service Data Type: esriImageServiceDataTypeRGB
Min Values: N/A
Max Values: N/A
Mean Values: N/A
Standard Deviation Values: N/A
Object ID Field:
Fields:
None
Default Mosaic Method: Center
Allowed Mosaic Methods:
SortField:
SortValue: null
Mosaic Operator: First
Default Compression Quality: 75
Default Resampling Method: Bilinear
Max Record Count: null
Max Image Height: 4100
Max Image Width: 15000
Max Download Image Count: null
Max Mosaic Image Count: null
Allow Raster Function: true
Allow Copy: null
Allow Analysis: null
Allow Compute TiePoints: false
Supports Statistics: false
Supports Advanced Queries: false
Use StandardizedQueries: true
Raster Type Infos:
Name: Raster Dataset
Description: Supports all ArcGIS Raster Datasets
Help:
Has Raster Attribute Table: false
Edit Fields Info: null
Ownership Based AccessControl For Rasters: null
Child Resources:
Info
Key Properties
Legend
Raster Function Infos
Supported Operations:
Export Image
Identify
Measure
Compute Histograms
Compute Statistics Histograms
Get Samples
Compute Class Statistics
Query Boundary
Compute Pixel Location
Validate
Project