View In:
ArcGIS JavaScript
Portal
ArcGIS Earth
ArcMap
View Footprint In:
Portal
Service Description: Imagery/Image2009jp2
Name: Imagery/Image2009jp2
Description:
Single Fused Map Cache: false
Extent:
XMin: 1277999.9999997793
YMin: 321549.9199886583
XMax: 1321249.9199997792
YMax: 385499.9999886583
Spatial Reference: 102748
(2285)
Initial Extent:
XMin: 1277999.9999997793
YMin: 321549.9199886583
XMax: 1321249.9199997792
YMax: 385499.9999886583
Spatial Reference: 102748
(2285)
Full Extent:
XMin: 1277999.9999997793
YMin: 321549.9199886583
XMax: 1321249.9199997792
YMax: 385499.9999886583
Spatial Reference: 102748
(2285)
Pixel Size X: 0.31999999999999945
Pixel Size Y: 0.32000000000000006
Band Count: 3
Pixel Type: U8
RasterFunction Infos: {"rasterFunctionInfos": [{
"name": "None",
"description": "",
"help": ""
}]}
Mensuration Capabilities: Basic
Has Histograms: false
Has Colormap: false
Has Multi Dimensions : false
Rendering Rule:
Min Scale: 0
Max Scale: 0
Copyright Text:
Service Data Type: esriImageServiceDataTypeRGB
Min Values: N/A
Max Values: N/A
Mean Values: N/A
Standard Deviation Values: N/A
Object ID Field:
Fields:
None
Default Mosaic Method: Center
Allowed Mosaic Methods:
SortField:
SortValue: null
Mosaic Operator: First
Default Compression Quality: 75
Default Resampling Method: Bilinear
Max Record Count: null
Max Image Height: 4100
Max Image Width: 15000
Max Download Image Count: null
Max Mosaic Image Count: null
Allow Raster Function: true
Allow Copy: null
Allow Analysis: null
Allow Compute TiePoints: false
Supports Statistics: false
Supports Advanced Queries: false
Use StandardizedQueries: true
Raster Type Infos:
Name: Raster Dataset
Description: Supports all ArcGIS Raster Datasets
Help:
Has Raster Attribute Table: false
Edit Fields Info: null
Ownership Based AccessControl For Rasters: null
Child Resources:
Info
Key Properties
Legend
Raster Function Infos
Supported Operations:
Export Image
Identify
Measure
Compute Histograms
Compute Statistics Histograms
Get Samples
Compute Class Statistics
Query Boundary
Compute Pixel Location
Validate
Project