View In:
ArcGIS JavaScript
Portal
ArcGIS Earth
ArcMap
View Footprint In:
Portal
Service Description: Aerial Image 2001
Name: Imagery/Image2001sid
Description: Aerial Image 2001
Single Fused Map Cache: false
Extent:
XMin: 1279774.8
YMin: 322924.1
XMax: 1327550.8
YMax: 381298.5
Spatial Reference: 102748
(2285)
Initial Extent:
XMin: 1279774.8
YMin: 322924.1
XMax: 1327550.8
YMax: 381298.5
Spatial Reference: 102748
(2285)
Full Extent:
XMin: 1279774.8
YMin: 322924.1
XMax: 1327550.8
YMax: 381298.5
Spatial Reference: 102748
(2285)
Pixel Size X: 0.8
Pixel Size Y: 0.8000000000000003
Band Count: 3
Pixel Type: U8
RasterFunction Infos: {"rasterFunctionInfos": [{
"name": "None",
"description": "",
"help": ""
}]}
Mensuration Capabilities: Basic
Has Histograms: true
Has Colormap: false
Has Multi Dimensions : false
Rendering Rule:
Min Scale: 0
Max Scale: 0
Copyright Text:
Service Data Type: esriImageServiceDataTypeRGB
Min Values: 0, 0, 0
Max Values: 207, 206, 203
Mean Values: 66.24415755185, 71.405893252047, 66.10543302851
Standard Deviation Values: 60.50087670857, 64.710602771007, 60.073390661947
Object ID Field:
Fields:
None
Default Mosaic Method: Center
Allowed Mosaic Methods:
SortField:
SortValue: null
Mosaic Operator: First
Default Compression Quality: 75
Default Resampling Method: Bilinear
Max Record Count: null
Max Image Height: 4100
Max Image Width: 15000
Max Download Image Count: null
Max Mosaic Image Count: null
Allow Raster Function: false
Allow Copy: null
Allow Analysis: null
Allow Compute TiePoints: false
Supports Statistics: false
Supports Advanced Queries: false
Use StandardizedQueries: true
Raster Type Infos:
Name: Raster Dataset
Description: Supports all ArcGIS Raster Datasets
Help:
Has Raster Attribute Table: false
Edit Fields Info: null
Ownership Based AccessControl For Rasters: null
Child Resources:
Info
Histograms
Key Properties
Legend
Raster Function Infos
Supported Operations:
Export Image
Identify
Measure
Compute Histograms
Compute Statistics Histograms
Get Samples
Compute Class Statistics
Query Boundary
Compute Pixel Location
Validate
Project