View In:
ArcGIS JavaScript
Portal
ArcGIS Earth
ArcMap
View Footprint In:
Portal
Service Description: 1990 Ariel Image, City of Everett
Name: Imagery/1990
Description: 1990 Ariel Image, City of Everett
Single Fused Map Cache: false
Extent:
XMin: 1276014.9456070408
YMin: 320350.59162318317
XMax: 1327022.061440374
YMax: 415304.46995651646
Spatial Reference: PROJCS["NAD_1983_StatePlane_Washington_North_FIPS_4601_Feet",GEOGCS["GCS_North_American_1983",DATUM["D_North_American_1983",SPHEROID["GRS_1980",6378137.0,298.257222101]],PRIMEM["Greenwich",0.0],UNIT["Degree",0.0174532925199433]],PROJECTION["Lambert_Conformal_Conic"],PARAMETER["false_easting",1640416.667],PARAMETER["false_northing",0.0],PARAMETER["central_meridian",-120.8333333333333],PARAMETER["standard_parallel_1",47.5],PARAMETER["standard_parallel_2",48.73333333333333],PARAMETER["latitude_of_origin",47.0],UNIT["Foot_US",0.3048006096012192]]
Initial Extent:
XMin: 1276014.9456070408
YMin: 320350.59162318317
XMax: 1327022.061440374
YMax: 415304.46995651646
Spatial Reference: PROJCS["NAD_1983_StatePlane_Washington_North_FIPS_4601_Feet",GEOGCS["GCS_North_American_1983",DATUM["D_North_American_1983",SPHEROID["GRS_1980",6378137.0,298.257222101]],PRIMEM["Greenwich",0.0],UNIT["Degree",0.0174532925199433]],PROJECTION["Lambert_Conformal_Conic"],PARAMETER["false_easting",1640416.667],PARAMETER["false_northing",0.0],PARAMETER["central_meridian",-120.8333333333333],PARAMETER["standard_parallel_1",47.5],PARAMETER["standard_parallel_2",48.73333333333333],PARAMETER["latitude_of_origin",47.0],UNIT["Foot_US",0.3048006096012192]]
Full Extent:
XMin: 1276014.9456070408
YMin: 320350.59162318317
XMax: 1327022.061440374
YMax: 415304.46995651646
Spatial Reference: PROJCS["NAD_1983_StatePlane_Washington_North_FIPS_4601_Feet",GEOGCS["GCS_North_American_1983",DATUM["D_North_American_1983",SPHEROID["GRS_1980",6378137.0,298.257222101]],PRIMEM["Greenwich",0.0],UNIT["Degree",0.0174532925199433]],PROJECTION["Lambert_Conformal_Conic"],PARAMETER["false_easting",1640416.667],PARAMETER["false_northing",0.0],PARAMETER["central_meridian",-120.8333333333333],PARAMETER["standard_parallel_1",47.5],PARAMETER["standard_parallel_2",48.73333333333333],PARAMETER["latitude_of_origin",47.0],UNIT["Foot_US",0.3048006096012192]]
Pixel Size X: 3.2808333333333266
Pixel Size Y: 3.280833333333332
Band Count: 1
Pixel Type: U8
RasterFunction Infos: {"rasterFunctionInfos": [{
"name": "None",
"description": "",
"help": ""
}]}
Mensuration Capabilities: Basic
Has Histograms: true
Has Colormap: false
Has Multi Dimensions : false
Rendering Rule:
Min Scale: 0
Max Scale: 0
Copyright Text: USGS
Service Data Type: esriImageServiceDataTypeGeneric
Min Values: 0
Max Values: 255
Mean Values: 83.925292501965
Standard Deviation Values: 59.524108590345
Object ID Field:
Fields:
None
Default Mosaic Method: Center
Allowed Mosaic Methods:
SortField:
SortValue: null
Mosaic Operator: First
Default Compression Quality: 75
Default Resampling Method: Bilinear
Max Record Count: null
Max Image Height: 4100
Max Image Width: 15000
Max Download Image Count: null
Max Mosaic Image Count: null
Allow Raster Function: true
Allow Copy: null
Allow Analysis: null
Allow Compute TiePoints: false
Supports Statistics: false
Supports Advanced Queries: false
Use StandardizedQueries: true
Raster Type Infos:
Name: Raster Dataset
Description: Supports all ArcGIS Raster Datasets
Help:
Has Raster Attribute Table: false
Edit Fields Info: null
Ownership Based AccessControl For Rasters: null
Child Resources:
Info
Histograms
Key Properties
Legend
Raster Function Infos
Supported Operations:
Export Image
Identify
Measure
Compute Histograms
Compute Statistics Histograms
Get Samples
Compute Class Statistics
Query Boundary
Compute Pixel Location
Validate
Project