{
 "currentVersion": 10.81,
 "serviceDescription": "Imagery/Smith_Island_12th_St_Very_High_Tide_20190718_WSP",
 "name": "Imagery/Smith_Island_12th_St_Very_High_Tide_20190718_WSP",
 "description": "",
 "extent": {
  "xmin": 1312706.9139438982,
  "ymin": 369287.2161047484,
  "xmax": 1316985.1290497705,
  "ymax": 375972.3663816154,
  "spatialReference": {
   "wkid": 102748,
   "latestWkid": 2285
  }
 },
 "initialExtent": {
  "xmin": 1312706.9139438982,
  "ymin": 369287.2161047484,
  "xmax": 1316985.1290497705,
  "ymax": 375972.3663816154,
  "spatialReference": {
   "wkid": 102748,
   "latestWkid": 2285
  }
 },
 "fullExtent": {
  "xmin": 1312706.9139438982,
  "ymin": 369287.2161047484,
  "xmax": 1316985.1290497705,
  "ymax": 375972.3663816154,
  "spatialReference": {
   "wkid": 102748,
   "latestWkid": 2285
  }
 },
 "pixelSizeX": 0.10488649159999923,
 "pixelSizeY": 0.1048864909999996,
 "bandCount": 3,
 "pixelType": "U8",
 "minPixelSize": 0,
 "maxPixelSize": 0,
 "copyrightText": "City of Everett Surface Water",
 "serviceDataType": "esriImageServiceDataTypeRGB",
 "minValues": [],
 "maxValues": [],
 "meanValues": [],
 "stdvValues": [],
 "objectIdField": "",
 "fields": [],
 "capabilities": "Image,Metadata,Mensuration",
 "defaultMosaicMethod": "Center",
 "allowedMosaicMethods": "",
 "sortField": "",
 "sortValue": null,
 "sortAscending": true,
 "mosaicOperator": "First",
 "defaultCompressionQuality": 75,
 "defaultResamplingMethod": "Bilinear",
 "maxImageHeight": 4100,
 "maxImageWidth": 15000,
 "allowRasterFunction": true,
 "rasterFunctionInfos": [
  {
   "name": "None",
   "description": "",
   "help": ""
  }
 ],
 "rasterTypeInfos": [
  {
   "name": "Raster Dataset",
   "description": "Supports all ArcGIS Raster Datasets",
   "help": ""
  }
 ],
 "mensurationCapabilities": "Basic",
 "hasHistograms": false,
 "hasColormap": false,
 "hasRasterAttributeTable": false,
 "minScale": 0,
 "maxScale": 0,
 "exportTilesAllowed": false,
 "hasMultidimensions": false,
 "supportsStatistics": false,
 "supportsAdvancedQueries": false,
 "editFieldsInfo": null,
 "ownershipBasedAccessControlForRasters": null,
 "allowComputeTiePoints": false,
 "useStandardizedQueries": true,
 "advancedQueryCapabilities": {
  "useStandardizedQueries": true,
  "supportsStatistics": false,
  "supportsOrderBy": false,
  "supportsDistinct": false,
  "supportsPagination": false
 },
 "spatialReference": {
  "wkid": 102748,
  "latestWkid": 2285
 }
}
